

BEGIN:VCALENDAR
VERSION:2.0
PRODID:-//hacksw/handcal//NONSGML v1.0//EN
CALSCALE:GREGORIAN
BEGIN:VEVENT
DTEND:20191130T193000
UID:603731b174c44
DTSTAMP:20210225T161217
LOCATION:Streamscape Level 1\, 1 Taylor Street  Moorabbin 3189 VIC
DESCRIPTION:
URL;VALUE=URI:http://proto2.streamclub.com.au/event/14888
SUMMARY:Golf Day
DTSTART:20191031T183000
END:VEVENT
END:VCALENDAR

