

BEGIN:VCALENDAR
VERSION:2.0
PRODID:-//hacksw/handcal//NONSGML v1.0//EN
CALSCALE:GREGORIAN
BEGIN:VEVENT
DTEND:20171221T193000
UID:6037326d2aa9a
DTSTAMP:20210225T161525
LOCATION:Streamscape Level 1\, 1 Taylor Street  Moorabbin 3189 VIC
DESCRIPTION:
URL;VALUE=URI:http://proto2.streamclub.com.au/event/14893
SUMMARY:Test Payment
DTSTART:20171221T183000
END:VEVENT
END:VCALENDAR

