

BEGIN:VCALENDAR
VERSION:2.0
PRODID:-//hacksw/handcal//NONSGML v1.0//EN
CALSCALE:GREGORIAN
BEGIN:VEVENT
DTEND:20210228T000000
UID:6037305e219a7
DTSTAMP:20210225T160638
LOCATION:new new new 333 WA
DESCRIPTION:
URL;VALUE=URI:http://proto2.streamclub.com.au/event/40170
SUMMARY:new event
DTSTART:20200512T000000
END:VEVENT
END:VCALENDAR

