

BEGIN:VCALENDAR
VERSION:2.0
PRODID:-//hacksw/handcal//NONSGML v1.0//EN
CALSCALE:GREGORIAN
BEGIN:VEVENT
DTEND:20200229T000000
UID:603732757f91b
DTSTAMP:20210225T161533
LOCATION:test test test 3195 VIC
DESCRIPTION:
URL;VALUE=URI:http://proto2.streamclub.com.au/event/40483
SUMMARY:Main event - pod
DTSTART:20200101T000000
END:VEVENT
END:VCALENDAR

