

BEGIN:VCALENDAR
VERSION:2.0
PRODID:-//hacksw/handcal//NONSGML v1.0//EN
CALSCALE:GREGORIAN
BEGIN:VEVENT
DTEND:20200721T000000
UID:6037322cbe958
DTSTAMP:20210225T161420
LOCATION:gotcha gotcha gotcha 3195 VIC
DESCRIPTION:
URL;VALUE=URI:http://proto2.streamclub.com.au/event/40501
SUMMARY:Zoom Event - ONLINE ONLY
DTSTART:20200721T000000
END:VEVENT
END:VCALENDAR

