

BEGIN:VCALENDAR
VERSION:2.0
PRODID:-//hacksw/handcal//NONSGML v1.0//EN
CALSCALE:GREGORIAN
BEGIN:VEVENT
DTEND:20190923T000000
UID:6037327cd1611
DTSTAMP:20210225T161540
LOCATION:test test fad  NSW
DESCRIPTION:
URL;VALUE=URI:http://proto2.streamclub.com.au/event/40512
SUMMARY:test
DTSTART:20190923T000000
END:VEVENT
END:VCALENDAR

