

BEGIN:VCALENDAR
VERSION:2.0
PRODID:-//hacksw/handcal//NONSGML v1.0//EN
CALSCALE:GREGORIAN
BEGIN:VEVENT
DTEND:20210331T000000
UID:603731a708e99
DTSTAMP:20210225T161207
LOCATION:test test test 3155 VIC
DESCRIPTION:
URL;VALUE=URI:http://proto2.streamclub.com.au/event/43793
SUMMARY:Regatta
DTSTART:20210310T000000
END:VEVENT
END:VCALENDAR

